BEGIN:VCALENDAR
VERSION:2.0
PRODID:-//Arizona National Golf Club - ECPv6.15.18//NONSGML v1.0//EN
CALSCALE:GREGORIAN
METHOD:PUBLISH
X-ORIGINAL-URL:https://www.arizonanationalgolfclub.com
X-WR-CALDESC:Events for Arizona National Golf Club
REFRESH-INTERVAL;VALUE=DURATION:PT1H
X-Robots-Tag:noindex
X-PUBLISHED-TTL:PT1H
BEGIN:VTIMEZONE
TZID:UTC
BEGIN:STANDARD
TZOFFSETFROM:+0000
TZOFFSETTO:+0000
TZNAME:UTC
DTSTART:20250101T000000
END:STANDARD
END:VTIMEZONE
BEGIN:VEVENT
DTSTART;TZID=UTC:20260306T170000
DTEND;TZID=UTC:20260306T190000
DTSTAMP:20260420T011755
CREATED:20260228T205546Z
LAST-MODIFIED:20260325T022837Z
UID:10000039-1772816400-1772823600@www.arizonanationalgolfclub.com
SUMMARY:Residents Band
DESCRIPTION: 
URL:https://www.arizonanationalgolfclub.com/event/residents-band/
END:VEVENT
END:VCALENDAR