BEGIN:VCALENDAR
VERSION:2.0
PRODID:-//Arizona National Golf Club - ECPv6.15.18//NONSGML v1.0//EN
CALSCALE:GREGORIAN
METHOD:PUBLISH
X-WR-CALNAME:Arizona National Golf Club
X-ORIGINAL-URL:https://www.arizonanationalgolfclub.com
X-WR-CALDESC:Events for Arizona National Golf Club
REFRESH-INTERVAL;VALUE=DURATION:PT1H
X-Robots-Tag:noindex
X-PUBLISHED-TTL:PT1H
BEGIN:VTIMEZONE
TZID:UTC
BEGIN:STANDARD
TZOFFSETFROM:+0000
TZOFFSETTO:+0000
TZNAME:UTC
DTSTART:20250101T000000
END:STANDARD
END:VTIMEZONE
BEGIN:VTIMEZONE
TZID:America/Phoenix
BEGIN:STANDARD
TZOFFSETFROM:-0700
TZOFFSETTO:-0700
TZNAME:MST
DTSTART:20250101T000000
END:STANDARD
END:VTIMEZONE
BEGIN:VEVENT
DTSTART;TZID=UTC:20260401T080000
DTEND;TZID=UTC:20260409T170000
DTSTAMP:20260421T030156
CREATED:20260317T001717Z
LAST-MODIFIED:20260402T171340Z
UID:10000058-1775030400-1775754000@www.arizonanationalgolfclub.com
SUMMARY:Pick A Winner: (Apr 1- 9) 
DESCRIPTION: 
URL:https://www.arizonanationalgolfclub.com/event/pick-a-winner-apr-1-9/
ATTACH;FMTTYPE=image/png:https://www.arizonanationalgolfclub.com/wp-content/uploads/sites/9649/2026/03/April-Pick-The-Winner-Masters-2.png
END:VEVENT
BEGIN:VEVENT
DTSTART;TZID=UTC:20260401T080000
DTEND;TZID=UTC:20260430T170000
DTSTAMP:20260421T030156
CREATED:20260317T001537Z
LAST-MODIFIED:20260317T001540Z
UID:10000057-1775030400-1777568400@www.arizonanationalgolfclub.com
SUMMARY:Els for Autism
DESCRIPTION:
URL:https://www.arizonanationalgolfclub.com/event/els-for-autism/
ATTACH;FMTTYPE=image/png:https://www.arizonanationalgolfclub.com/wp-content/uploads/sites/9649/2026/03/APRIL-2nd-Month-Els-For-Autism-2.png
END:VEVENT
BEGIN:VEVENT
DTSTART;TZID=UTC:20260401T163000
DTEND;TZID=UTC:20260401T183000
DTSTAMP:20260421T030156
CREATED:20260310T014444Z
LAST-MODIFIED:20260420T193403Z
UID:10000045-1775061000-1775068200@www.arizonanationalgolfclub.com
SUMMARY:Burger Night
DESCRIPTION: 
URL:https://www.arizonanationalgolfclub.com/event/burger-night-10/
END:VEVENT
BEGIN:VEVENT
DTSTART;TZID=UTC:20260403T170000
DTEND;TZID=UTC:20260403T190000
DTSTAMP:20260421T030156
CREATED:20260310T015106Z
LAST-MODIFIED:20260325T023732Z
UID:10000049-1775235600-1775242800@www.arizonanationalgolfclub.com
SUMMARY:Residents Band
DESCRIPTION: 
URL:https://www.arizonanationalgolfclub.com/event/residents-band-2/
END:VEVENT
BEGIN:VEVENT
DTSTART;TZID=UTC:20260405T100000
DTEND;TZID=UTC:20260405T140000
DTSTAMP:20260421T030156
CREATED:20260321T043841Z
LAST-MODIFIED:20260324T235430Z
UID:10000060-1775383200-1775397600@www.arizonanationalgolfclub.com
SUMMARY:Easter Sunday Brunch\, 2026
DESCRIPTION:
URL:https://www.arizonanationalgolfclub.com/event/easter-sunday-brunch-2026/
END:VEVENT
BEGIN:VEVENT
DTSTART;TZID=UTC:20260408T163000
DTEND;TZID=UTC:20260408T183000
DTSTAMP:20260421T030156
CREATED:20260326T055124Z
LAST-MODIFIED:20260326T055153Z
UID:10000064-1775665800-1775673000@www.arizonanationalgolfclub.com
SUMMARY:Burger Night
DESCRIPTION: 
URL:https://www.arizonanationalgolfclub.com/event/burger-night-11/
END:VEVENT
BEGIN:VEVENT
DTSTART;TZID=UTC:20260411T170000
DTEND;TZID=UTC:20260411T200000
DTSTAMP:20260421T030156
CREATED:20260311T051352Z
LAST-MODIFIED:20260311T051719Z
UID:10000055-1775926800-1775937600@www.arizonanationalgolfclub.com
SUMMARY:Cowboy Cookout 4/11/2026
DESCRIPTION:
URL:https://www.arizonanationalgolfclub.com/event/cowboy-cookout-4-11-2026/
END:VEVENT
BEGIN:VEVENT
DTSTART;TZID=UTC:20260415T163000
DTEND;TZID=UTC:20260415T183000
DTSTAMP:20260421T030156
CREATED:20260326T055227Z
LAST-MODIFIED:20260326T055230Z
UID:10000065-1776270600-1776277800@www.arizonanationalgolfclub.com
SUMMARY:Burger Night
DESCRIPTION: 
URL:https://www.arizonanationalgolfclub.com/event/burger-night-12/
END:VEVENT
BEGIN:VEVENT
DTSTART;TZID=UTC:20260422T080000
DTEND;TZID=UTC:20260422T170000
DTSTAMP:20260421T030156
CREATED:20260317T001943Z
LAST-MODIFIED:20260317T001947Z
UID:10000059-1776844800-1776877200@www.arizonanationalgolfclub.com
SUMMARY:Earth Day
DESCRIPTION:
URL:https://www.arizonanationalgolfclub.com/event/earth-day/
ATTACH;FMTTYPE=image/png:https://www.arizonanationalgolfclub.com/wp-content/uploads/sites/9649/2026/03/April-22nd-Earth-Day.png
END:VEVENT
BEGIN:VEVENT
DTSTART;TZID=America/Phoenix:20260422T163000
DTEND;TZID=America/Phoenix:20260422T183000
DTSTAMP:20260421T030156
CREATED:20260420T221026Z
LAST-MODIFIED:20260420T222234Z
UID:10000102-1776875400-1776882600@www.arizonanationalgolfclub.com
SUMMARY:Pasta Night with Chef Cesar
DESCRIPTION:
URL:https://www.arizonanationalgolfclub.com/event/pasta-night-with-chef-cesar/
END:VEVENT
BEGIN:VEVENT
DTSTART;TZID=America/Phoenix:20260424T163000
DTEND;TZID=America/Phoenix:20260424T180000
DTSTAMP:20260421T030156
CREATED:20260420T173000Z
LAST-MODIFIED:20260420T173000Z
UID:10000101-1777048200-1777053600@www.arizonanationalgolfclub.com
SUMMARY:Friday Night Dinner
DESCRIPTION:
URL:https://www.arizonanationalgolfclub.com/event/friday-night-dinner-14/
END:VEVENT
BEGIN:VEVENT
DTSTART;TZID=UTC:20260429T163000
DTEND;TZID=UTC:20260429T183000
DTSTAMP:20260421T030156
CREATED:20260420T165446Z
LAST-MODIFIED:20260420T165446Z
UID:10000091-1777480200-1777487400@www.arizonanationalgolfclub.com
SUMMARY:Burger Night
DESCRIPTION: 
URL:https://www.arizonanationalgolfclub.com/event/burger-night-15/
END:VEVENT
BEGIN:VEVENT
DTSTART;TZID=UTC:20260501T170000
DTEND;TZID=UTC:20260501T190000
DTSTAMP:20260421T030156
CREATED:20260326T055553Z
LAST-MODIFIED:20260326T055556Z
UID:10000068-1777654800-1777662000@www.arizonanationalgolfclub.com
SUMMARY:Residents Band
DESCRIPTION: 
URL:https://www.arizonanationalgolfclub.com/event/residents-band-3/
END:VEVENT
BEGIN:VEVENT
DTSTART;TZID=UTC:20260506T163000
DTEND;TZID=UTC:20260506T183000
DTSTAMP:20260421T030156
CREATED:20260420T165525Z
LAST-MODIFIED:20260420T165625Z
UID:10000092-1778085000-1778092200@www.arizonanationalgolfclub.com
SUMMARY:Burger Night
DESCRIPTION: 
URL:https://www.arizonanationalgolfclub.com/event/burger-night-16/
END:VEVENT
BEGIN:VEVENT
DTSTART;TZID=America/Phoenix:20260508T163000
DTEND;TZID=America/Phoenix:20260508T183000
DTSTAMP:20260421T030156
CREATED:20260420T170555Z
LAST-MODIFIED:20260420T223822Z
UID:10000096-1778257800-1778265000@www.arizonanationalgolfclub.com
SUMMARY:Friday Night Dinner
DESCRIPTION:
URL:https://www.arizonanationalgolfclub.com/event/friday-night-dinner-6/
END:VEVENT
BEGIN:VEVENT
DTSTART;TZID=America/Phoenix:20260510T100000
DTEND;TZID=America/Phoenix:20260510T140000
DTSTAMP:20260421T030156
CREATED:20260418T200433Z
LAST-MODIFIED:20260420T193626Z
UID:10000071-1778407200-1778421600@www.arizonanationalgolfclub.com
SUMMARY:Mother's Day Brunch
DESCRIPTION:Where: The Grill at Arizona National \nPrice: $29 Adults | $15.50 Kids (6 – 12) | Free for Kids Under 5 \nReserve your brunch time below\, using the form. \nMother's Day Brunch - ReservationPlease enable JavaScript in your browser to complete this form.Name *FirstLastEmail *		\n			Time Phone Email\n			\n		\n		Phone *Reservation Time *--- Select Choice ---10:00 a.m.10:30 a.m.11:00 a.m.11:30 a.m.12:00 p.m.1:00 p.m.1:30 p.m.2:00 p.m.CommentsSubmit   \n 
URL:https://www.arizonanationalgolfclub.com/event/mothers-day-brunch/
ATTACH;FMTTYPE=image/png:https://www.arizonanationalgolfclub.com/wp-content/uploads/sites/9649/2026/04/Celebrating-Mothers-Brunch-Multi-Format-1.png
END:VEVENT
BEGIN:VEVENT
DTSTART;TZID=UTC:20260513T163000
DTEND;TZID=UTC:20260513T183000
DTSTAMP:20260421T030156
CREATED:20260420T165608Z
LAST-MODIFIED:20260420T165648Z
UID:10000093-1778689800-1778697000@www.arizonanationalgolfclub.com
SUMMARY:Burger Night
DESCRIPTION: 
URL:https://www.arizonanationalgolfclub.com/event/burger-night-17/
END:VEVENT
BEGIN:VEVENT
DTSTART;TZID=America/Phoenix:20260515T163000
DTEND;TZID=America/Phoenix:20260515T183000
DTSTAMP:20260421T030156
CREATED:20260420T171714Z
LAST-MODIFIED:20260420T172620Z
UID:10000097-1778862600-1778869800@www.arizonanationalgolfclub.com
SUMMARY:Friday Night Dinner
DESCRIPTION:
URL:https://www.arizonanationalgolfclub.com/event/friday-night-dinner-8/
END:VEVENT
BEGIN:VEVENT
DTSTART;TZID=UTC:20260520T163000
DTEND;TZID=UTC:20260520T183000
DTSTAMP:20260421T030156
CREATED:20260420T165714Z
LAST-MODIFIED:20260420T165714Z
UID:10000094-1779294600-1779301800@www.arizonanationalgolfclub.com
SUMMARY:Burger Night
DESCRIPTION: 
URL:https://www.arizonanationalgolfclub.com/event/burger-night-18/
END:VEVENT
BEGIN:VEVENT
DTSTART;TZID=America/Phoenix:20260522T163000
DTEND;TZID=America/Phoenix:20260522T180000
DTSTAMP:20260421T030156
CREATED:20260420T171823Z
LAST-MODIFIED:20260420T172325Z
UID:10000099-1779467400-1779472800@www.arizonanationalgolfclub.com
SUMMARY:Friday Night Dinner
DESCRIPTION:
URL:https://www.arizonanationalgolfclub.com/event/friday-night-dinner-9/
END:VEVENT
BEGIN:VEVENT
DTSTART;TZID=UTC:20260527T163000
DTEND;TZID=UTC:20260527T183000
DTSTAMP:20260421T030156
CREATED:20260420T165747Z
LAST-MODIFIED:20260420T195430Z
UID:10000095-1779899400-1779906600@www.arizonanationalgolfclub.com
SUMMARY:Burger Night
DESCRIPTION: 
URL:https://www.arizonanationalgolfclub.com/event/burger-night-19/
END:VEVENT
BEGIN:VEVENT
DTSTART;TZID=America/Phoenix:20260529T163000
DTEND;TZID=America/Phoenix:20260529T183000
DTSTAMP:20260421T030156
CREATED:20260420T171907Z
LAST-MODIFIED:20260420T222139Z
UID:10000100-1780072200-1780079400@www.arizonanationalgolfclub.com
SUMMARY:Friday Night Dinner
DESCRIPTION:
URL:https://www.arizonanationalgolfclub.com/event/friday-night-dinner-13/
END:VEVENT
END:VCALENDAR