BEGIN:VCALENDAR
VERSION:2.0
PRODID:-//Arizona National Golf Club - ECPv6.15.18//NONSGML v1.0//EN
CALSCALE:GREGORIAN
METHOD:PUBLISH
X-WR-CALNAME:Arizona National Golf Club
X-ORIGINAL-URL:https://www.arizonanationalgolfclub.com
X-WR-CALDESC:Events for Arizona National Golf Club
REFRESH-INTERVAL;VALUE=DURATION:PT1H
X-Robots-Tag:noindex
X-PUBLISHED-TTL:PT1H
BEGIN:VTIMEZONE
TZID:America/Phoenix
BEGIN:STANDARD
TZOFFSETFROM:-0700
TZOFFSETTO:-0700
TZNAME:MST
DTSTART:20250101T000000
END:STANDARD
END:VTIMEZONE
BEGIN:VTIMEZONE
TZID:UTC
BEGIN:STANDARD
TZOFFSETFROM:+0000
TZOFFSETTO:+0000
TZNAME:UTC
DTSTART:20250101T000000
END:STANDARD
END:VTIMEZONE
BEGIN:VEVENT
DTSTART;TZID=America/Phoenix:20260510T100000
DTEND;TZID=America/Phoenix:20260510T140000
DTSTAMP:20260421T043400
CREATED:20260418T200433Z
LAST-MODIFIED:20260420T193626Z
UID:10000071-1778407200-1778421600@www.arizonanationalgolfclub.com
SUMMARY:Mother's Day Brunch
DESCRIPTION:Where: The Grill at Arizona National \nPrice: $29 Adults | $15.50 Kids (6 – 12) | Free for Kids Under 5 \nReserve your brunch time below\, using the form. \nMother's Day Brunch - ReservationPlease enable JavaScript in your browser to complete this form.Name *FirstLastEmail *		\n			Time Name Phone\n			\n		\n		Phone *Reservation Time *--- Select Choice ---10:00 a.m.10:30 a.m.11:00 a.m.11:30 a.m.12:00 p.m.1:00 p.m.1:30 p.m.2:00 p.m.CommentsSubmit  \n 
URL:https://www.arizonanationalgolfclub.com/event/mothers-day-brunch/
ATTACH;FMTTYPE=image/png:https://www.arizonanationalgolfclub.com/wp-content/uploads/sites/9649/2026/04/Celebrating-Mothers-Brunch-Multi-Format-1.png
END:VEVENT
BEGIN:VEVENT
DTSTART;TZID=UTC:20260513T163000
DTEND;TZID=UTC:20260513T183000
DTSTAMP:20260421T043401
CREATED:20260420T165608Z
LAST-MODIFIED:20260420T165648Z
UID:10000093-1778689800-1778697000@www.arizonanationalgolfclub.com
SUMMARY:Burger Night
DESCRIPTION: 
URL:https://www.arizonanationalgolfclub.com/event/burger-night-17/
END:VEVENT
BEGIN:VEVENT
DTSTART;TZID=America/Phoenix:20260515T163000
DTEND;TZID=America/Phoenix:20260515T183000
DTSTAMP:20260421T043401
CREATED:20260420T171714Z
LAST-MODIFIED:20260420T172620Z
UID:10000097-1778862600-1778869800@www.arizonanationalgolfclub.com
SUMMARY:Friday Night Dinner
DESCRIPTION:
URL:https://www.arizonanationalgolfclub.com/event/friday-night-dinner-8/
END:VEVENT
BEGIN:VEVENT
DTSTART;TZID=UTC:20260520T163000
DTEND;TZID=UTC:20260520T183000
DTSTAMP:20260421T043401
CREATED:20260420T165714Z
LAST-MODIFIED:20260420T165714Z
UID:10000094-1779294600-1779301800@www.arizonanationalgolfclub.com
SUMMARY:Burger Night
DESCRIPTION: 
URL:https://www.arizonanationalgolfclub.com/event/burger-night-18/
END:VEVENT
BEGIN:VEVENT
DTSTART;TZID=America/Phoenix:20260522T163000
DTEND;TZID=America/Phoenix:20260522T180000
DTSTAMP:20260421T043401
CREATED:20260420T171823Z
LAST-MODIFIED:20260420T172325Z
UID:10000099-1779467400-1779472800@www.arizonanationalgolfclub.com
SUMMARY:Friday Night Dinner
DESCRIPTION:
URL:https://www.arizonanationalgolfclub.com/event/friday-night-dinner-9/
END:VEVENT
BEGIN:VEVENT
DTSTART;TZID=UTC:20260527T163000
DTEND;TZID=UTC:20260527T183000
DTSTAMP:20260421T043401
CREATED:20260420T165747Z
LAST-MODIFIED:20260420T195430Z
UID:10000095-1779899400-1779906600@www.arizonanationalgolfclub.com
SUMMARY:Burger Night
DESCRIPTION: 
URL:https://www.arizonanationalgolfclub.com/event/burger-night-19/
END:VEVENT
BEGIN:VEVENT
DTSTART;TZID=America/Phoenix:20260529T163000
DTEND;TZID=America/Phoenix:20260529T183000
DTSTAMP:20260421T043401
CREATED:20260420T171907Z
LAST-MODIFIED:20260420T222139Z
UID:10000100-1780072200-1780079400@www.arizonanationalgolfclub.com
SUMMARY:Friday Night Dinner
DESCRIPTION:
URL:https://www.arizonanationalgolfclub.com/event/friday-night-dinner-13/
END:VEVENT
END:VCALENDAR