BEGIN:VCALENDAR
VERSION:2.0
PRODID:-//Arizona National Golf Club - ECPv6.15.18//NONSGML v1.0//EN
CALSCALE:GREGORIAN
METHOD:PUBLISH
X-WR-CALNAME:Arizona National Golf Club
X-ORIGINAL-URL:https://www.arizonanationalgolfclub.com
X-WR-CALDESC:Events for Arizona National Golf Club
REFRESH-INTERVAL;VALUE=DURATION:PT1H
X-Robots-Tag:noindex
X-PUBLISHED-TTL:PT1H
BEGIN:VTIMEZONE
TZID:America/Phoenix
BEGIN:STANDARD
TZOFFSETFROM:-0700
TZOFFSETTO:-0700
TZNAME:MST
DTSTART:20250101T000000
END:STANDARD
END:VTIMEZONE
BEGIN:VEVENT
DTSTART;TZID=America/Phoenix:20260529T163000
DTEND;TZID=America/Phoenix:20260529T183000
DTSTAMP:20260421T060728
CREATED:20260420T171907Z
LAST-MODIFIED:20260420T222139Z
UID:10000100-1780072200-1780079400@www.arizonanationalgolfclub.com
SUMMARY:Friday Night Dinner
DESCRIPTION:
URL:https://www.arizonanationalgolfclub.com/event/friday-night-dinner-13/
END:VEVENT
END:VCALENDAR